BEGIN:VCALENDAR
VERSION:2.0
PRODID:-//Main Street Chestertown - ECPv6.15.20//NONSGML v1.0//EN
CALSCALE:GREGORIAN
METHOD:PUBLISH
X-WR-CALNAME:Main Street Chestertown
X-ORIGINAL-URL:https://www.mainstreetchestertown.org
X-WR-CALDESC:Events for Main Street Chestertown
REFRESH-INTERVAL;VALUE=DURATION:PT1H
X-Robots-Tag:noindex
X-PUBLISHED-TTL:PT1H
BEGIN:VTIMEZONE
TZID:UTC
BEGIN:STANDARD
TZOFFSETFROM:+0000
TZOFFSETTO:+0000
TZNAME:UTC
DTSTART:20240101T000000
END:STANDARD
END:VTIMEZONE
BEGIN:VTIMEZONE
TZID:America/New_York
BEGIN:DAYLIGHT
TZOFFSETFROM:-0500
TZOFFSETTO:-0400
TZNAME:EDT
DTSTART:20240310T070000
END:DAYLIGHT
BEGIN:STANDARD
TZOFFSETFROM:-0400
TZOFFSETTO:-0500
TZNAME:EST
DTSTART:20241103T060000
END:STANDARD
BEGIN:DAYLIGHT
TZOFFSETFROM:-0500
TZOFFSETTO:-0400
TZNAME:EDT
DTSTART:20250309T070000
END:DAYLIGHT
BEGIN:STANDARD
TZOFFSETFROM:-0400
TZOFFSETTO:-0500
TZNAME:EST
DTSTART:20251102T060000
END:STANDARD
BEGIN:DAYLIGHT
TZOFFSETFROM:-0500
TZOFFSETTO:-0400
TZNAME:EDT
DTSTART:20260308T070000
END:DAYLIGHT
BEGIN:STANDARD
TZOFFSETFROM:-0400
TZOFFSETTO:-0500
TZNAME:EST
DTSTART:20261101T060000
END:STANDARD
END:VTIMEZONE
BEGIN:VEVENT
DTSTART;VALUE=DATE:20250601
DTEND;VALUE=DATE:20250615
DTSTAMP:20260425T075251
CREATED:20250109T204511Z
LAST-MODIFIED:20250421T020459Z
UID:10002221-1748736000-1749945599@www.mainstreetchestertown.org
SUMMARY:National Music Festival
DESCRIPTION:The National Music Festival transforms Kent County into a hub of music. Now in its 13th season\, the nationally recognized event will feature music to suit virtually every taste — from symphonies and chamber music to hints of jazz. More than 30 concerts and over 200 open rehearsals are scheduled throughout the Festival in venues across the Eastern Shore.
URL:https://www.mainstreetchestertown.org/event/national-music-festival-2/
LOCATION:M
CATEGORIES:Annual Event
ATTACH;FMTTYPE=image/webp:https://www.mainstreetchestertown.org/wp-content/uploads/2025/01/nationalmusicfestival.webp
END:VEVENT
BEGIN:VEVENT
DTSTART;TZID=UTC:20250606T170000
DTEND;TZID=UTC:20250606T200000
DTSTAMP:20260425T075251
CREATED:20230323T023911Z
LAST-MODIFIED:20230501T235033Z
UID:10002134-1749229200-1749240000@www.mainstreetchestertown.org
SUMMARY:First Friday
DESCRIPTION:On the first Friday of the month\, downtown shops stay open until 8 pm and galleries stage opening and special events.
URL:https://www.mainstreetchestertown.org/event/first-friday/2025-06-06/
LOCATION:M
ATTACH;FMTTYPE=image/png:https://www.mainstreetchestertown.org/wp-content/uploads/2023/03/chestertown_first_friday_landscape.png
END:VEVENT
BEGIN:VEVENT
DTSTART;TZID=America/New_York:20250607T110000
DTEND;TZID=America/New_York:20250607T160000
DTSTAMP:20260425T075251
CREATED:20250603T213503Z
LAST-MODIFIED:20250603T213716Z
UID:10002395-1749294000-1749312000@www.mainstreetchestertown.org
SUMMARY:Historical Society of Kent County's 50th House & Garden Tour: Hidden Gems of Chestertown
DESCRIPTION:The Historical Society’s 50th House & Garden Tour takes place on June 7 from 11 am to 4 pm. \nThis year’s tour showcases hidden gems in Chestertown: historic homes ranging from 18th-century residences to early 20th-century Craftsman styles\, all nestled within a charming and walkable neighborhood in Chestertown’s Historic District. \nDocents at each location will share insights into the history\, design\, and evolution of these remarkable homes. Guests will also receive a keepsake brochure\, complete with photos\, descriptions\, and historical highlights from around Chestertown. \nThis tour is dedicated to longtime volunteer and organizer of the 48th and 49th house tours Cynthia Saunders.
URL:https://www.mainstreetchestertown.org/event/historical-society-of-kent-countys-50th-house-garden-tour-hidden-gems-of-chestertown/
LOCATION:Bordley History Center\, 301 High St.\, Chestertown\, M\, 21620\, United States
ATTACH;FMTTYPE=image/jpeg:https://www.mainstreetchestertown.org/wp-content/uploads/2025/06/house-tour-flyer-one-sided-Copy.jpg
ORGANIZER;CN="Historical Society of Kent County":MAILTO:director@kentcountyhistory.org
END:VEVENT
BEGIN:VEVENT
DTSTART;TZID=America/New_York:20250611T180000
DTEND;TZID=America/New_York:20250611T193000
DTSTAMP:20260425T075251
CREATED:20250530T160820Z
LAST-MODIFIED:20250530T160820Z
UID:10002390-1749664800-1749670200@www.mainstreetchestertown.org
SUMMARY:Bookplate Author Event - Chris Filstrup
DESCRIPTION:“The Turban: A History from East to West” by Chris Filstrup and Jane Merrill \nUnravel the fascinating history of the turban\, from its origins to its religious uses and its appearance in contemporary fashion and culture. \nA turban is a strip of cloth folded and wrapped around the head; however\, this description includes multifarious forms of the garment across space and time. This book follows the turban as it moves from the Arabian Peninsula through the Ottoman Empire to Europe and the Americas. It directs the reader’s gaze from traditional and religious uses of the turban into the realms of international trade\, Renaissance art\, and contemporary fashions. Turbans\, as this book shows\, have moved in and out of Western culture\, at times archaic and forgotten\, then noticed and reinstated as major accessories. Today Sikh men are recognized by their distinctive headwraps\, and the turban remains an important part of Black culture. This book explores the turban’s many adaptations worldwide. \nJoin author Chris Filstrup and the staff from The Bookplate out at Sultana’s Lawrence Wetlands Preserve for a lecture and book signing on Wednesday\, June 11th at 6pm. Reserve your seat by email at contact@thebookplate.net or by calling The Bookplate at (410)778-4167. As a reminder; handicapped patrons may be dropped off at the gate to the preserve\, but there is no parking on site.
URL:https://www.mainstreetchestertown.org/event/bookplate-author-event-chris-filstrup/
LOCATION:Lawrence Wetlands Preserve\, 301 South Mill Street\, Chestertown\, M\, 21620\, United States
ATTACH;FMTTYPE=image/jpeg:https://www.mainstreetchestertown.org/wp-content/uploads/2025/05/Filstrup-Poster.jpg
ORGANIZER;CN="The Bookplate":MAILTO:contact@thebookplate.net
END:VEVENT
BEGIN:VEVENT
DTSTART;TZID=America/New_York:20250612T180000
DTEND;TZID=America/New_York:20250612T213000
DTSTAMP:20260425T075251
CREATED:20250516T151454Z
LAST-MODIFIED:20250516T151454Z
UID:10002387-1749751200-1749763800@www.mainstreetchestertown.org
SUMMARY:A Night in New Orleans – part of the 2025 Delmarva Pride Festival!
DESCRIPTION:The Delmarva Pride Center is excited to announce its upcoming event\, “A Night in New Orleans\,” a vibrant fundraiser celebrating Pride Month and supporting the ongoing efforts to promote equality and inclusivity in the community. The event is scheduled for Thursday\, June 12\, 2025\, with a VIP Cocktail Hour starting at 6:00 PM and Concert and Dance starting at 7:00 PM at the historic Garfield Center for the Arts in Chestertown\, Maryland. \nAttendees will be transported to the heart of New Orleans with an evening filled with live jazz music\, Cajun cuisine\, and festive dancing reminiscent of the French Quarter. The event aims to bring together community members\, local leaders\, and supporters to honor the spirit of Pride and raise funds for Delmarva Pride Center’s initiatives. \nHighlights of the evening include: \nLive Entertainment: Performances by the Ryan Asprion Jazz Combo capturing the soulful sounds of New Orleans. VIP ticket holders will be treated to dance lessons with special guest Jackie Moreland. \nCulinary Delights: A menu featuring New Orleans inspired dishes prepared by Happy Chicken. \nSilent Auction: Guests can bid on a variety of items and experiences donated by local businesses and artisans. \nFor tickets – https://secure.anedot.com/delmarva-pride-center/jazz \nThank you to our sponsors:\nTRAX Advantage Driving Academy\nEnvision Wealth Planning
URL:https://www.mainstreetchestertown.org/event/a-night-in-new-orleans-part-of-the-2025-delmarva-pride-festival/
LOCATION:Garfield Center for the Arts\, 210 High Street\, Chestertown\, MD\, 21620\, United States
ATTACH;FMTTYPE=image/jpeg:https://www.mainstreetchestertown.org/wp-content/uploads/2025/05/NOLA_banner_FINAL-01.jpg
ORGANIZER;CN="Kent County Chapter of the Delmarva Pride Center":MAILTO:info@dpckentcounty.org
END:VEVENT
BEGIN:VEVENT
DTSTART;TZID=America/New_York:20250613T170000
DTEND;TZID=America/New_York:20250613T200000
DTSTAMP:20260425T075251
CREATED:20250603T005402Z
LAST-MODIFIED:20250603T005402Z
UID:10002393-1749834000-1749844800@www.mainstreetchestertown.org
SUMMARY:HEROES OF THE CHESAPEAKE- JUNETEENTH CELEBRATION
DESCRIPTION:Friday\, June 13th\, 2025 the Bayside H.O.Y.A.S.\, will host their annual “Heroes of the Chesapeake” Juneteenth celebration at Fountain Park in Chestertown\, Md. \nThe “Heroes of the Chesapeake” Juneteenth celebration will illuminate the role of African Americans in the history of the Eastern Shore and their contributions and serves to be an exciting celebration and acknowledgment of the heritage and culture of the African American community. \nSponsors: Town of Chestertown\, Main Street Chestertown\, and BlackUnion of Kent County. \nTo donate and learn more about our annual events visit baysidehoyas.org
URL:https://www.mainstreetchestertown.org/event/heroes-of-the-chesapeake-juneteenth-celebration/
LOCATION:Fountain Park\, Chestertown\, MD\, 21620\, United States
CATEGORIES:Annual Event
ATTACH;FMTTYPE=image/jpeg:https://www.mainstreetchestertown.org/wp-content/uploads/2025/06/Juneteenth-Flyer-2025.jpg
ORGANIZER;CN="Bayside H.O.Y.A.S.%2C Inc.":MAILTO:baysidehoyas2013@gmail.com
END:VEVENT
BEGIN:VEVENT
DTSTART;TZID=America/New_York:20250613T170000
DTEND;TZID=America/New_York:20250613T200000
DTSTAMP:20260425T075251
CREATED:20250603T011019Z
LAST-MODIFIED:20250603T011028Z
UID:10002394-1749834000-1749844800@www.mainstreetchestertown.org
SUMMARY:Heroes of the Chesapeake – Juneteenth Celebration
DESCRIPTION:Friday\, June 13th\, 2025 the Bayside H.O.Y.A.S.\, will host their annual “Heroes of the Chesapeake” Juneteenth celebration at Fountain Park in Chestertown\, Md. The “Heroes of the Chesapeake” Juneteenth celebration will illuminate the role of African Americans in the history of the Eastern Shore and their contributions and serves to be an exciting celebration and acknowledgment of the heritage and culture of the African American community. \nSponsors: Town of Chestertown\, Main Street Chestertown\, and Black Union of Kent County.
URL:https://www.mainstreetchestertown.org/event/heroes-of-the-chesapeake-juneteenth-celebration-2/
LOCATION:Fountain Park\, Chestertown\, MD\, 21620\, United States
ATTACH;FMTTYPE=image/jpeg:https://www.mainstreetchestertown.org/wp-content/uploads/2025/06/Juneteenth-Flyer-2025-1.jpg
ORGANIZER;CN="Bayside H.O.Y.A.S.%2C Inc.":MAILTO:baysidehoyas2013@gmail.com
END:VEVENT
BEGIN:VEVENT
DTSTART;TZID=UTC:20250619T180000
DTEND;TZID=UTC:20250619T200000
DTSTAMP:20260425T075251
CREATED:20250507T151120Z
LAST-MODIFIED:20250507T151120Z
UID:10002380-1750356000-1750363200@www.mainstreetchestertown.org
SUMMARY:Cars on High
DESCRIPTION:Every third Thursday\, April through October\, weather permitting. Owners share classic\, antique\, and custom cars on the 300 Block of High Street. No registration necessary.
URL:https://www.mainstreetchestertown.org/event/cars-on-high/2025-06-19/
LOCATION:High St.\, High St.\, Chestertown\, MD\, 21620\, United States
ATTACH;FMTTYPE=image/png:https://www.mainstreetchestertown.org/wp-content/uploads/2023/03/chestertown_car_show.png
END:VEVENT
BEGIN:VEVENT
DTSTART;TZID=America/New_York:20250621T130000
DTEND;TZID=America/New_York:20250621T143000
DTSTAMP:20260425T075251
CREATED:20250611T193849Z
LAST-MODIFIED:20250611T193849Z
UID:10002401-1750510800-1750516200@www.mainstreetchestertown.org
SUMMARY:We're Still Here: Black Countryside Communities in Kent County
DESCRIPTION:Join the Historical Society of Kent County for a presentation and community discussion led by Darius Johnson\, historic preservation scholar and project director for Chesapeake Heartland. Focusing on the Black countryside communities of Butlertown\, Big Woods\, Still Pond\, and Coleman\, the program highlights personal histories and community legacies often left out of the historical record. \nFree and open to the public! Reservations encouraged and can be made at the link provided.
URL:https://www.mainstreetchestertown.org/event/were-still-here-black-countryside-communities-in-kent-county/
LOCATION:Lawrence Wetlands Preserve\, 301 South Mill Street\, Chestertown\, M\, 21620\, United States
ATTACH;FMTTYPE=image/jpeg:https://www.mainstreetchestertown.org/wp-content/uploads/2025/06/were-still-here-square-logo-png.jpg
ORGANIZER;CN="Historical Society of Kent County":MAILTO:director@kentcountyhistory.org
END:VEVENT
BEGIN:VEVENT
DTSTART;TZID=America/New_York:20250622T063000
DTEND;TZID=America/New_York:20250622T170000
DTSTAMP:20260425T075251
CREATED:20250605T181123Z
LAST-MODIFIED:20250605T181123Z
UID:10002396-1750573800-1750611600@www.mainstreetchestertown.org
SUMMARY:Jim Gent Bay to Bay Bike Ride
DESCRIPTION:Every year hundreds of bicyclists from around the region converge in Kent County for the annual Jim Gent Memorial Bay to Bay Bike Ride. This year’s event is on June 22 with the rides begining in Betterton and consisting of five routes between 26 and 102 miles in length. The flat loop routes take in the scenery of the heartland of the Upper Eastern Shore of Maryland and Delaware—including views of farmland\, historic homes\, quaint towns\, and country stores. The 26-mile ride goes through historic Chestertown\, for those who want a less challenging ride. Some participants may end their ride with a cool-down swim at Betterton Beach.\nThe annual event gives riders the chance to enjoy the beauty of Kent County\, Chestertown and Delmarva\, providing an economic boost to local businesses and restaurants\, while raising money for leader dog training and other vision assistance by the Lions Clubs.\nFees are $45.00 May 16 until June 15\, and $55.00 June 16 – June 22. The ride starts and ends at Betterton Volunteer Fire Company 2 Howell Point Road Betterton\, MD 21610.\nRegistration Hours: 6:30 am until 9:00 am Ride start at 7:00 am; Ride ends promptly at 6:00 pm Last Sweep 5:00 pm.\nGo to www.chestertownlions.org for registration form and up-to-date information.
URL:https://www.mainstreetchestertown.org/event/jim-gent-bay-to-bay-bike-ride/
LOCATION:M
CATEGORIES:Fundraiser
ATTACH;FMTTYPE=image/jpeg:https://www.mainstreetchestertown.org/wp-content/uploads/2025/06/2022-bay-to-bay-bike-ride-chestertown-stop-b-and-w-002.jpg
END:VEVENT
END:VCALENDAR