BEGIN:VCALENDAR
VERSION:2.0
PRODID:-//Main Street Chestertown - ECPv6.15.20//NONSGML v1.0//EN
CALSCALE:GREGORIAN
METHOD:PUBLISH
X-WR-CALNAME:Main Street Chestertown
X-ORIGINAL-URL:https://www.mainstreetchestertown.org
X-WR-CALDESC:Events for Main Street Chestertown
REFRESH-INTERVAL;VALUE=DURATION:PT1H
X-Robots-Tag:noindex
X-PUBLISHED-TTL:PT1H
BEGIN:VTIMEZONE
TZID:UTC
BEGIN:STANDARD
TZOFFSETFROM:+0000
TZOFFSETTO:+0000
TZNAME:UTC
DTSTART:20240101T000000
END:STANDARD
END:VTIMEZONE
BEGIN:VTIMEZONE
TZID:America/New_York
BEGIN:DAYLIGHT
TZOFFSETFROM:-0500
TZOFFSETTO:-0400
TZNAME:EDT
DTSTART:20240310T070000
END:DAYLIGHT
BEGIN:STANDARD
TZOFFSETFROM:-0400
TZOFFSETTO:-0500
TZNAME:EST
DTSTART:20241103T060000
END:STANDARD
BEGIN:DAYLIGHT
TZOFFSETFROM:-0500
TZOFFSETTO:-0400
TZNAME:EDT
DTSTART:20250309T070000
END:DAYLIGHT
BEGIN:STANDARD
TZOFFSETFROM:-0400
TZOFFSETTO:-0500
TZNAME:EST
DTSTART:20251102T060000
END:STANDARD
BEGIN:DAYLIGHT
TZOFFSETFROM:-0500
TZOFFSETTO:-0400
TZNAME:EDT
DTSTART:20260308T070000
END:DAYLIGHT
BEGIN:STANDARD
TZOFFSETFROM:-0400
TZOFFSETTO:-0500
TZNAME:EST
DTSTART:20261101T060000
END:STANDARD
END:VTIMEZONE
BEGIN:VEVENT
DTSTART;TZID=UTC:20250704T170000
DTEND;TZID=UTC:20250704T200000
DTSTAMP:20260425T062852
CREATED:20230323T023911Z
LAST-MODIFIED:20230501T235033Z
UID:10002135-1751648400-1751659200@www.mainstreetchestertown.org
SUMMARY:First Friday
DESCRIPTION:On the first Friday of the month\, downtown shops stay open until 8 pm and galleries stage opening and special events.
URL:https://www.mainstreetchestertown.org/event/first-friday/2025-07-04/
LOCATION:M
ATTACH;FMTTYPE=image/png:https://www.mainstreetchestertown.org/wp-content/uploads/2023/03/chestertown_first_friday_landscape.png
END:VEVENT
BEGIN:VEVENT
DTSTART;TZID=America/New_York:20250704T210000
DTEND;TZID=America/New_York:20250704T220000
DTSTAMP:20260425T062852
CREATED:20250624T170002Z
LAST-MODIFIED:20250624T170103Z
UID:10002406-1751662800-1751666400@www.mainstreetchestertown.org
SUMMARY:4th of July Fireworks
DESCRIPTION:The Town of Chestertown hosts their annual fireworks display on Friday\, July 4th. \nThe display will begin at dark\, around 9:10 pm. \nViewing area will be at Wilmer Park\, 413 Cross Street\, Chestertown. \nIn case of brief rain\, the fireworks will be set off when the rain stops. \nRain date: July 5\, 2025
URL:https://www.mainstreetchestertown.org/event/4th-of-july-fireworks/
LOCATION:Wilmer Park
CATEGORIES:Annual Event
ATTACH;FMTTYPE=image/jpeg:https://www.mainstreetchestertown.org/wp-content/uploads/2025/06/Picture1.jpg
END:VEVENT
END:VCALENDAR